BEGIN:VCALENDAR
VERSION:2.0
PRODID:-//CiviCRM//NONSGML CiviEvent iCal//EN
X-WR-TIMEZONE:America/Toronto
METHOD:PUBLISH
BEGIN:VTIMEZONE
TZID:America/Toronto
BEGIN:DAYLIGHT
TZOFFSETFROM:-0400
TZOFFSETTO:-0400
TZNAME:EDT
DTSTART:20260428T130000
END:DAYLIGHT
END:VTIMEZONE
BEGIN:VEVENT
UID:CiviCRM_EventID_6461_f9e81b6bf9f993401fe181d3d42740d4@acorncanada.org
SUMMARY:Council Watch Party: Rental Replacement Bylaw Moti
 on!
X-ALT-DESC;FMTTYPE=text/html:<!DOCTYPE HTML PUBLIC
  "-//W3C//DTD HTML 3.2//EN"><html><body><p>\n <sty
 le type="text/css"><!--td {border: 1px solid #cccc
 cc\;}br {mso-data-placement:same-cell\;}-->\n </st
 yle>\n Join ACORN members attending the City Counc
 il Meeting to support Councillor Skylar Franke's m
 otion to investigate a rental replacement bylaw fo
 r London! This is a local policy ACORN has won in 
 cities across Canada to protect tenants during the
  redevelopment of affordable housing and stop demo
 victions.</p></body></html>
DESCRIPTION:\n \n \n Join ACORN members attending the City Cou
 ncil Meeting to support Councillor Skylar Franke's
  motion to investigate a rental replacement bylaw 
 for London! This is a local policy ACORN has won i
 n cities across Canada to protect tenants during t
 he redevelopment of affordable housing and stop de
 movictions.\n \n 
CATEGORIES:Action
CALSCALE:GREGORIAN
DTSTAMP;TZID=America/Toronto:20260428T130000
DTSTART;TZID=America/Toronto:20260428T130000
DTEND;TZID=America/Toronto:20260428T130000
LOCATION:London City Hall\n 300 Dufferin Ave\n London\, ON 
 N6B 1Z2\n Canada\n 
URL:https://acorncanada.org/civicrm/event/info/?reset=1&id=6461
END:VEVENT
END:VCALENDAR
