BEGIN:VCALENDAR
VERSION:2.0
PRODID:-//CiviCRM//NONSGML CiviEvent iCal//EN
X-WR-TIMEZONE:America/Toronto
METHOD:PUBLISH
BEGIN:VTIMEZONE
TZID:America/Toronto
BEGIN:DAYLIGHT
TZOFFSETFROM:-0400
TZOFFSETTO:-0400
TZNAME:EDT
DTSTART:20260422T183000
END:DAYLIGHT
END:VTIMEZONE
BEGIN:VEVENT
UID:CiviCRM_EventID_6455_f9e81b6bf9f993401fe181d3d42740d4@acorncanada.org
SUMMARY:Earth Day in Bramalea!
X-ALT-DESC;FMTTYPE=text/html:<!DOCTYPE HTML PUBLIC
  "-//W3C//DTD HTML 3.2//EN"><html><body><p>\n <sty
 le type="text/css"><!--td {border: 1px solid #cccc
 cc\;}br {mso-data-placement:same-cell\;}-->\n </st
 yle>\n Peel ACORN members are doing outreach in th
 e park to warn residents of the impact of the inci
 nerator expansion on air quality\, health and the 
 environment! Meet us at the snack bar for flyering
  and petitioning.</p></body></html>
DESCRIPTION:\n \n \n Peel ACORN members are doing outreach in 
 the park to warn residents of the impact of the in
 cinerator expansion on air quality\, health and th
 e environment! Meet us at the snack bar for flyeri
 ng and petitioning.\n \n 
CATEGORIES:Action
CALSCALE:GREGORIAN
DTSTAMP;TZID=America/Toronto:20260422T183000
DTSTART;TZID=America/Toronto:20260422T183000
DTEND;TZID=America/Toronto:20260422T183000
LOCATION:9050 Bramalea Rd\n Brampton\, ON L6S 6G7\n Canada\
 n 
URL:https://acorncanada.org/civicrm/event/info/?reset=1&id=6455
END:VEVENT
END:VCALENDAR
