BEGIN:VCALENDAR
VERSION:2.0
PRODID:-//CiviCRM//NONSGML CiviEvent iCal//EN
X-WR-TIMEZONE:America/Toronto
METHOD:PUBLISH
BEGIN:VTIMEZONE
TZID:America/Toronto
BEGIN:DAYLIGHT
TZOFFSETFROM:-0400
TZOFFSETTO:-0400
TZNAME:EDT
DTSTART:20260428T183000
END:DAYLIGHT
END:VTIMEZONE
BEGIN:VEVENT
UID:CiviCRM_EventID_6444_f9e81b6bf9f993401fe181d3d42740d4@acorncanada.org
SUMMARY:Ottawa West Chapter Meeting
X-ALT-DESC;FMTTYPE=text/html:<!DOCTYPE HTML PUBLIC
  "-//W3C//DTD HTML 3.2//EN"><html><body><p>\n <sty
 le type="text/css"><!--td {border: 1px solid #cccc
 cc\;}br {mso-data-placement:same-cell\;}-->\n </st
 yle>\n Join your neighbours at the upcoming chapte
 r meeting and have your say on community issues li
 ke slumlords\, lack of maintenance\, rent increase
 s\, unfair evictions\, costly groceries and more!<
 /p></body></html>
DESCRIPTION:\n \n \n Join your neighbours at the upcoming chap
 ter meeting and have your say on community issues 
 like slumlords\, lack of maintenance\, rent increa
 ses\, unfair evictions\, costly groceries and more
 !\n \n 
CATEGORIES:Meeting
CALSCALE:GREGORIAN
DTSTAMP;TZID=America/Toronto:20260428T183000
DTSTART;TZID=America/Toronto:20260428T183000
DTEND;TZID=America/Toronto:20260428T183000
LOCATION:Foster Farm Community Center\n 1065 Ramsey Cres.\n
  Ottawa\, ON K2B 8A1\n Canada\n 
URL:https://acorncanada.org/civicrm/event/info/?reset=1&id=6444
END:VEVENT
END:VCALENDAR
