BEGIN:VCALENDAR
VERSION:2.0
PRODID:-//CiviCRM//NONSGML CiviEvent iCal//EN
X-WR-TIMEZONE:America/Toronto
METHOD:PUBLISH
BEGIN:VTIMEZONE
TZID:America/Toronto
BEGIN:DAYLIGHT
TZOFFSETFROM:-0400
TZOFFSETTO:-0400
TZNAME:EDT
DTSTART:20260423T183000
END:DAYLIGHT
END:VTIMEZONE
BEGIN:VEVENT
UID:CiviCRM_EventID_6433_f9e81b6bf9f993401fe181d3d42740d4@acorncanada.org
SUMMARY:Falstaff Avenue Tenant Meeting
X-ALT-DESC;FMTTYPE=text/html:<!DOCTYPE HTML PUBLIC
  "-//W3C//DTD HTML 3.2//EN"><html><body><p>\n <sty
 le type="text/css"><!--td {border: 1px solid #cccc
 cc\;}br {mso-data-placement:same-cell\;}-->\n </st
 yle>\n Last month\, tenants of 20\, 30\, and 40 Fa
 lstaff Avenue sent a letter to the CEO of Toronto 
 Community Housing requesting a meeting to discuss 
 concerns ranging from disrepair to disrespect. But
  all we got was a lousy email reply offering to he
 lp individual tenants address their individual con
 cerns. So we're meeting again to plan to demand a 
 meeting with the tenants' chosen representatives -
 - and to take action to win it! Join us!</p></body
 ></html>
DESCRIPTION:\n \n \n Last month\, tenants of 20\, 30\, and 40 
 Falstaff Avenue sent a letter to the CEO of Toront
 o Community Housing requesting a meeting to discus
 s concerns ranging from disrepair to disrespect. B
 ut all we got was a lousy email reply offering to 
 help individual tenants address their individual c
 oncerns. So we're meeting again to plan to demand 
 a meeting with the tenants' chosen representatives
  -- and to take action to win it! Join us!\n \n 
CATEGORIES:Meeting
CALSCALE:GREGORIAN
DTSTAMP;TZID=America/Toronto:20260423T183000
DTSTART;TZID=America/Toronto:20260423T183000
DTEND;TZID=America/Toronto:20260423T183000
LOCATION:30 Falstaff Ave\n Toronto\, ON M6L 2C9\n Canada\n 
URL:https://acorncanada.org/civicrm/event/info/?reset=1&id=6433
END:VEVENT
END:VCALENDAR
