BEGIN:VCALENDAR
VERSION:2.0
PRODID:-//CiviCRM//NONSGML CiviEvent iCal//EN
X-WR-TIMEZONE:America/Toronto
METHOD:PUBLISH
BEGIN:VTIMEZONE
TZID:America/Toronto
BEGIN:DAYLIGHT
TZOFFSETFROM:-0400
TZOFFSETTO:-0400
TZNAME:EDT
DTSTART:20260423T130000
END:DAYLIGHT
END:VTIMEZONE
BEGIN:VEVENT
UID:CiviCRM_EventID_6431_f9e81b6bf9f993401fe181d3d42740d4@acorncanada.org
SUMMARY:Moss Park Community Information Fair
X-ALT-DESC;FMTTYPE=text/html:<!DOCTYPE HTML PUBLIC
  "-//W3C//DTD HTML 3.2//EN"><html><body><p>\n <sty
 le type="text/css"><!--td {border: 1px solid #cccc
 cc\;}br {mso-data-placement:same-cell\;}-->\n </st
 yle>\n Downtown Toronto ACORN members will be tabl
 ing at the Moss Park Community Information Fair! C
 ome and say hello!</p></body></html>
DESCRIPTION:\n \n \n Downtown Toronto ACORN members will be ta
 bling at the Moss Park Community Information Fair!
  Come and say hello!\n \n 
CATEGORIES:Workshop
CALSCALE:GREGORIAN
DTSTAMP;TZID=America/Toronto:20260423T130000
DTSTART;TZID=America/Toronto:20260423T130000
DTEND;TZID=America/Toronto:20260423T130000
LOCATION:150 Sherbourne St\n Toronto\, ON M5A 2R6\n Canada\
 n 
URL:https://acorncanada.org/civicrm/event/info/?reset=1&id=6431
END:VEVENT
END:VCALENDAR
