BEGIN:VCALENDAR
VERSION:2.0
PRODID:-//CiviCRM//NONSGML CiviEvent iCal//EN
X-WR-TIMEZONE:America/Toronto
METHOD:PUBLISH
BEGIN:VTIMEZONE
TZID:America/Toronto
BEGIN:DAYLIGHT
TZOFFSETFROM:-0400
TZOFFSETTO:-0400
TZNAME:EDT
DTSTART:20260427T110000
END:DAYLIGHT
END:VTIMEZONE
BEGIN:VEVENT
UID:CiviCRM_EventID_6422_f9e81b6bf9f993401fe181d3d42740d4@acorncanada.org
SUMMARY:North West Say NO to ADAP
X-ALT-DESC;FMTTYPE=text/html:<!DOCTYPE HTML PUBLIC
  "-//W3C//DTD HTML 3.2//EN"><html><body><hr />\n <
 p>As we draw near to the Conservatives replacing A
 ISH with ADAP\, we need to stand up for our those 
 who will be affected by these changes! We all know
  that those who cannot work are simply being pushe
 d furth and further into poverty.</p>\n \n <p>Come
  out and support those in your community and put a
 n end to ADAP!</p>\n \n <p>Want to join ACORN in y
 our community? Reach out to your local Organizer: 
 <a href="http://acorncanada.org/contact-us">acornc
 anada.org/contact-us</a></p></body></html>
DESCRIPTION:\n As we draw near to the Conservatives replacing 
 AISH with ADAP\, we need to stand up for our those
  who will be affected by these changes! We all kno
 w that those who cannot work are simply being push
 ed furth and further into poverty.\n \n \n \n Come
  out and support those in your community and put a
 n end to ADAP!\n \n \n \n Want to join ACORN in yo
 ur community? Reach out to your local Organizer: a
 corncanada.org/contact-us (http://acorncanada.org/
 contact-us)\n \n 
CATEGORIES:Action
CALSCALE:GREGORIAN
DTSTAMP;TZID=America/Toronto:20260427T110000
DTSTART;TZID=America/Toronto:20260427T110000
DTEND;TZID=America/Toronto:20260427T110000
LOCATION:1816 Crowchild Trail NW\n Calgary\, AB T2M 3Y7\n C
 anada\n 
URL:https://acorncanada.org/civicrm/event/info/?reset=1&id=6422
END:VEVENT
END:VCALENDAR
