BEGIN:VCALENDAR
VERSION:2.0
PRODID:-//CiviCRM//NONSGML CiviEvent iCal//EN
X-WR-TIMEZONE:America/Toronto
METHOD:PUBLISH
BEGIN:VTIMEZONE
TZID:America/Toronto
BEGIN:DAYLIGHT
TZOFFSETFROM:-0400
TZOFFSETTO:-0400
TZNAME:EDT
DTSTART:20260424T100000
END:DAYLIGHT
END:VTIMEZONE
BEGIN:VEVENT
UID:CiviCRM_EventID_6421_f9e81b6bf9f993401fe181d3d42740d4@acorncanada.org
SUMMARY:Landlord Licensing Bus Tour
X-ALT-DESC;FMTTYPE=text/html:<!DOCTYPE HTML PUBLIC
  "-//W3C//DTD HTML 3.2//EN"><html><body><hr />\n <
 p>Alberta ACORN is taking everyone on a road trip 
 around Calgary! Members from the city are showing 
 off their apartment buildings to show the disrepai
 r their units are in!</p>\n \n <p>Come out to meet
  your community\, and get in the fight for better 
 policies for tenants!</p>\n \n <p>Want to join ACO
 RN in your city? Contact your local Organizer: <a 
 href="http://acorncanada.org/contact-us">acorncana
 da.org/contact-us</a></p></body></html>
DESCRIPTION:\n Alberta ACORN is taking everyone on a road trip
  around Calgary! Members from the city are showing
  off their apartment buildings to show the disrepa
 ir their units are in!\n \n \n \n Come out to meet
  your community\, and get in the fight for better 
 policies for tenants!\n \n \n \n Want to join ACOR
 N in your city? Contact your local Organizer: acor
 ncanada.org/contact-us (http://acorncanada.org/con
 tact-us)\n \n 
CATEGORIES:Action
CALSCALE:GREGORIAN
DTSTAMP;TZID=America/Toronto:20260424T100000
DTSTART;TZID=America/Toronto:20260424T100000
DTEND;TZID=America/Toronto:20260424T140000
LOCATION:800 Macleod Trl SE\n Calgary\, AB T2G 5E6\n Canada
 \n 
URL:https://acorncanada.org/civicrm/event/info/?reset=1&id=6421
END:VEVENT
END:VCALENDAR
